BEGIN:VCALENDAR
VERSION:2.0
PRODID:-//SING | Schweizer Institut für nachhaltige Gesundheit - ECPv6.15.20//NONSGML v1.0//EN
CALSCALE:GREGORIAN
METHOD:PUBLISH
X-ORIGINAL-URL:https://www.si-ng.ch
X-WR-CALDESC:Veranstaltungen für SING | Schweizer Institut für nachhaltige Gesundheit
REFRESH-INTERVAL;VALUE=DURATION:PT1H
X-Robots-Tag:noindex
X-PUBLISHED-TTL:PT1H
BEGIN:VTIMEZONE
TZID:Europe/Zurich
BEGIN:DAYLIGHT
TZOFFSETFROM:+0100
TZOFFSETTO:+0200
TZNAME:CEST
DTSTART:20230326T010000
END:DAYLIGHT
BEGIN:STANDARD
TZOFFSETFROM:+0200
TZOFFSETTO:+0100
TZNAME:CET
DTSTART:20231029T010000
END:STANDARD
BEGIN:DAYLIGHT
TZOFFSETFROM:+0100
TZOFFSETTO:+0200
TZNAME:CEST
DTSTART:20240331T010000
END:DAYLIGHT
BEGIN:STANDARD
TZOFFSETFROM:+0200
TZOFFSETTO:+0100
TZNAME:CET
DTSTART:20241027T010000
END:STANDARD
BEGIN:DAYLIGHT
TZOFFSETFROM:+0100
TZOFFSETTO:+0200
TZNAME:CEST
DTSTART:20250330T010000
END:DAYLIGHT
BEGIN:STANDARD
TZOFFSETFROM:+0200
TZOFFSETTO:+0100
TZNAME:CET
DTSTART:20251026T010000
END:STANDARD
END:VTIMEZONE
BEGIN:VEVENT
DTSTART;VALUE=DATE:20241129
DTEND;VALUE=DATE:20241201
DTSTAMP:20260425T131100
CREATED:20240610T141227Z
LAST-MODIFIED:20250226T121642Z
UID:10000277-1732838400-1733011199@www.si-ng.ch
SUMMARY:Einführung in die Akzeptanz- und Commitment-Therapie (ACT)
DESCRIPTION:Zweitägiger Workshop zur Einführung in die Akzeptanz- und Commitment-Therapie (ACT). \nLeitung: Dr. med. Jan Martz\, Dr. phil. Jae Villanueva \nDatum & Zeit: 29.-30.11.2024\, 9.00-17.00 Uhr (2 Tage)\, Ankunft ab 8.30 Uhr. \nKosten: 550.- (Mittags- & Pausenverpflegung vor Ort) \nKursbeschreibung: Die Akzeptanz- und Commitment-Therapie (ACT) ist eines der bekanntesten Verfahren der sogenannten „dritten Welle“ der Verhaltenstherapie. Sie ist evidenzbasiert\, international etabliert und transdiagnostisch in unterschiedlichen Kontexten anwendbar. In diesem Kurs wird ACT den Teilnehmenden mittels erfahrungsorientierter Übungen vermittelt und theoretisch eingeordnet. Dieser Kurs richtet sich an Personen\, welche in helfenden Berufen tätig sind oder sich in einer entsprechenden Ausbildung befinden. Er ist für konzipiert für Personen ohne Vorkenntnisse in ACT\, eignet sich aber auch für erfahrenere Praktiker:innen\, die ACT in der Gruppe weiter üben und vertiefen möchten. \n \nDr. phil. Jae Villanueva ist eidg. anerkannte Psychotherapeutin\, Forscherin und Mitbegründerin des Schweizerischen Instituts für nachhaltige Gesundheit (SING) in Zürich. Ihr Forschungsschwerpunkt liegt auf ACT im Kontext sozialer Interaktionen und des Alltags transdiagnostischer Patient:innen. Sie beschäftigt sich ausserdem stark mit Themen wie dem Klimawandel\, Feminismus und Intersektionalität. \n  \n \nDr. med. Jan Martz arbeitet in eigener Praxis als Psychiater und ACT-Therapeut in Winterthur und Zürich. Seit 2006 hat er sich intensiv in ACT ausgebildet\, und die kontextuellen Verhaltenswissenschaften haben sein persönliches und berufliches Leben in vielerlei Hinsicht bereichert. Er hat alleine und zusammen mit anderen diverse ACT-Workshops geleitet. Seit vielen Jahren praktiziert er Meditation (Zen-Tradition)\, daher war der Achtsamkeitsaspekt von ACT für ihn schon immer wichtig. \n  \n 
URL:https://www.si-ng.ch/event/einfuehrung-in-die-akzeptanz-und-commitment-therapie-act/
LOCATION:Schweizer Institut für nachhaltige Gesundheit (SING)\, Rötelstrasse 37\, Zürich\, ZH\, 8037
CATEGORIES:Workshops
ATTACH;FMTTYPE=image/jpeg:https://www.si-ng.ch/wp-content/uploads/2023/09/AdobeStock_526049186-scaled.jpeg
ORGANIZER;CN="Schweizer Institut f%C3%BCr nachhaltige Gesundheit (SING) GmbH":MAILTO:info@si-ng.ch
END:VEVENT
END:VCALENDAR