BEGIN:VCALENDAR
VERSION:2.0
PRODID:-//SING | Schweizer Institut für nachhaltige Gesundheit - ECPv6.15.20//NONSGML v1.0//EN
CALSCALE:GREGORIAN
METHOD:PUBLISH
X-ORIGINAL-URL:https://www.si-ng.ch
X-WR-CALDESC:Veranstaltungen für SING | Schweizer Institut für nachhaltige Gesundheit
REFRESH-INTERVAL;VALUE=DURATION:PT1H
X-Robots-Tag:noindex
X-PUBLISHED-TTL:PT1H
BEGIN:VTIMEZONE
TZID:Europe/Zurich
BEGIN:DAYLIGHT
TZOFFSETFROM:+0100
TZOFFSETTO:+0200
TZNAME:CEST
DTSTART:20250330T010000
END:DAYLIGHT
BEGIN:STANDARD
TZOFFSETFROM:+0200
TZOFFSETTO:+0100
TZNAME:CET
DTSTART:20251026T010000
END:STANDARD
BEGIN:DAYLIGHT
TZOFFSETFROM:+0100
TZOFFSETTO:+0200
TZNAME:CEST
DTSTART:20260329T010000
END:DAYLIGHT
BEGIN:STANDARD
TZOFFSETFROM:+0200
TZOFFSETTO:+0100
TZNAME:CET
DTSTART:20261025T010000
END:STANDARD
BEGIN:DAYLIGHT
TZOFFSETFROM:+0100
TZOFFSETTO:+0200
TZNAME:CEST
DTSTART:20270328T010000
END:DAYLIGHT
BEGIN:STANDARD
TZOFFSETFROM:+0200
TZOFFSETTO:+0100
TZNAME:CET
DTSTART:20271031T010000
END:STANDARD
END:VTIMEZONE
BEGIN:VEVENT
DTSTART;VALUE=DATE:20260407
DTEND;VALUE=DATE:20260701
DTSTAMP:20260424T184909
CREATED:20260122T150634Z
LAST-MODIFIED:20260310T110823Z
UID:10000305-1775520000-1782863999@www.si-ng.ch
SUMMARY:ACT - Therapiegruppe
DESCRIPTION:„Gemeinsam erarbeiten wir Kompetenzen für ein bewussteres und werteorientierteres Leben.“\n\nGruppenbeschreibung:\nDie ambulante ACT-Gruppentherapie richtet sich an erwachsene Personen mit Stress\, emotionalen Belastungen\, Ängsten\, depressiven Symptomen\, Schmerzen oder anhaltenden Schwierigkeiten im Alltag. In 12 Modulen lernen Sie\, mit belastenden Gedanken und Gefühlen angemessen umzugehen und Ihre psychische Flexibilität zu stärken. In einer kleinen\, konstanten Gruppe (max. 10 Teilnehmende) erarbeiten Sie Ihre persönlichen Werte und üben\, diese im Alltag umzusetzen. Sind Sie bereit\, sich aktiv in unsere Gruppe einzubringen? Anmeldung über unser Kontaktformular. \nVoraussetzungen: \n\nLaufende ambulante Psychotherapie\nVorgespräch (30min)\nGenügende Stabilität\n\n\nDaten und Uhrzeit:  \nJeweils dienstags von 10:15 bis 11:45 Uhr\, 12 Termine. \n07.04.2026 – 30.06.2026 (Ausfall Frühlingsferien: 21.04.2026) \n\nKosten: \nDie Abrechnung erfolgt über die Grundversicherung (OKP). Bitte klären Sie vor dem Start der Gruppe mit Ihrer Krankenkasse ab\, ob Sie die laufende Anordnung von Ihrer Psychotherapie nutzen können oder ob Sie eine neue Anordnung von der Hausärzt:in oder Psychiater:in brauchen. \n\nAnmeldung:  \nSie haben Interesse an der Gruppe oder Fragen? Dann melden Sie sich bei uns über unser Kontaktformular. \nLeitung: \n \nHerzig Fiona\, MSc \n  \n  \nDu möchtest wissen\, was sich in unserem Institut sonst noch tut? Du kannst dich hier für unseren Newsletter anmelden. Keine Angst\, wir versenden unseren Newsletter lediglich alle paar Monate. Danke für dein Interesse.
URL:https://www.si-ng.ch/event/act-gruppe/
LOCATION:Schweizer Institut für nachhaltige Gesundheit (SING)\, Rötelstrasse 37\, Zürich\, ZH\, 8037
CATEGORIES:Workshops
ATTACH;FMTTYPE=image/jpeg:https://www.si-ng.ch/wp-content/uploads/2026/01/DSC_1605.jpg
ORGANIZER;CN="Schweizer Institut f%C3%BCr nachhaltige Gesundheit (SING) GmbH":MAILTO:info@si-ng.ch
END:VEVENT
END:VCALENDAR